BEGIN:VCALENDAR
VERSION:2.0
PRODID:https://github.com/derhansen/sf_event_mgt
METHOD:PUBLISH
BEGIN:VEVENT
UID:7-25@www.buergerhospital-ffm.de
CLASS: PUBLIC
SUMMARY:Kurs Zehn Monde: Yoga für Schwangere - 21.04. bis 30.06.2026 (10 Te
 rmine)
DESCRIPTION:Der 90-minütige Kurs findet Dienstagvormittags von 08:30 bis 10
 :00 Uhr statt. \n\nDer Kurs am 2.6. entfällt!Die Kosten für den Kurs betrag
 en 170€.\n\nAnna Schönewolf \n\nAnmeldung
DTSTAMP:20260306T101601Z
DTSTART:20260421T063000Z
DTEND:20260630T080000Z
END:VEVENT
END:VCALENDAR
