BEGIN:VCALENDAR
VERSION:2.0
PRODID:https://github.com/derhansen/sf_event_mgt
METHOD:PUBLISH
BEGIN:VEVENT
UID:52-25@www.buergerhospital-ffm.de
CLASS: PUBLIC
SUMMARY:Kurs Zehn Monde: Rückbildung mit Yoga - 21.04. bis 30.06.2026 (10 T
 ermine)
DESCRIPTION:Der 90-minütige Kurs findet Dienstagvormittags statt. Genaue Ze
 iten auf Anfrage.\n\nDer Kurs am 2.6. entfällt!Der Eigenanteil am Kurs betr
 ägt 95€.\n\nAnna Schönewolf \n\nAnmeldung
DTSTAMP:20251007T101128Z
DTSTART:20260421T080000Z
DTEND:20260630T100000Z
END:VEVENT
END:VCALENDAR
