BEGIN:VCALENDAR
VERSION:2.0
PRODID:https://github.com/derhansen/sf_event_mgt
METHOD:PUBLISH
BEGIN:VEVENT
UID:39-25@www.buergerhospital-ffm.de
CLASS: PUBLIC
SUMMARY:Kurs Zehn Monde: Rückbildung mit Yoga - 11.08. bis 22.09.2026 (7 Te
 rmine)
DESCRIPTION:Die Kurse finden dienstags zu drei verschiedenen Zeiten am Vorm
 ittag/Mittag statt. Genaue Zeiten auf Anfrage.Der Eigenanteil am Kurs beträ
 gt 75€.\n\nAnna Schönewolf \n\nAnmeldung
DTSTAMP:20260421T131136Z
DTSTART:20260811T080000Z
DTEND:20260922T100000Z
END:VEVENT
END:VCALENDAR
