BEGIN:VCALENDAR
VERSION:2.0
PRODID:https://github.com/derhansen/sf_event_mgt
METHOD:PUBLISH
BEGIN:VEVENT
UID:71-25@www.buergerhospital-ffm.de
CLASS: PUBLIC
SUMMARY:Kurs Zehn Monde: Bauchtanz - 19.06. bis 17.07.2026 (5 Termine)
DESCRIPTION:In diesem Kurs sind alle schwangeren Frauen ab der 14. Schwange
 r­schafts­woche willkommen, die gerne tanzen. Vorkenntnisse im orientalisch
 en Tanz sind nicht notwendig. Generell werden die Bewegungsabfolgen einfach
  gehalten, damit jede Schwangere gut mitkommt und man sich beim Tanzen ents
 pannen kann.\n\nHüfttücher werden gestellt.\n\nAnmeldung\n\nSina Gilani\n\n
 Anmeldung per E-Mail
DTSTAMP:20260115T113647Z
DTSTART:20260619T150000Z
DTEND:20260717T160000Z
END:VEVENT
END:VCALENDAR
