BEGIN:VCALENDAR
VERSION:2.0
PRODID:https://github.com/derhansen/sf_event_mgt
METHOD:PUBLISH
BEGIN:VEVENT
UID:42-25@www.buergerhospital-ffm.de
CLASS: PUBLIC
SUMMARY:Kurs Zehn Monde: Babymassage - 11.06. bis 09.07.2026 (5 Termine)
DESCRIPTION:Karola Kirchner\n\nZur Webseite
DTSTAMP:20260424T074415Z
DTSTART:20260611T073000Z
DTEND:20260709T083000Z
END:VEVENT
END:VCALENDAR
