BEGIN:VCALENDAR
VERSION:2.0
PRODID:https://github.com/derhansen/sf_event_mgt
METHOD:PUBLISH
BEGIN:VEVENT
UID:41-25@www.buergerhospital-ffm.de
CLASS: PUBLIC
SUMMARY:Kurs Zehn Monde: Babymassage - 16.04. bis 21.05.2026 (5 Termine)
DESCRIPTION:Karola Kirchner\n\nZur Webseite\n\n\n\nDer Kurs am 14. Mai entf
 ällt. 
DTSTAMP:20260217T092042Z
DTSTART:20260416T073000Z
DTEND:20260521T083000Z
END:VEVENT
END:VCALENDAR
