BEGIN:VCALENDAR
VERSION:2.0
PRODID:https://github.com/derhansen/sf_event_mgt
METHOD:PUBLISH
BEGIN:VEVENT
UID:14-25@www.buergerhospital-ffm.de
CLASS: PUBLIC
SUMMARY:Geburtsvorbereitung: Wochenendkurs (Geburts­termin September)
DESCRIPTION:Samstag und Sonntag jeweils 10.00 – 17.00 UhrAssunta Carpentier
 i\n\nAnmeldung per E-Mail
DTSTAMP:20260331T095800Z
DTSTART:20260801T080000Z
DTEND:20260802T140000Z
END:VEVENT
END:VCALENDAR
