BEGIN:VCALENDAR
VERSION:2.0
PRODID:https://github.com/derhansen/sf_event_mgt
METHOD:PUBLISH
BEGIN:VEVENT
UID:33-25@www.buergerhospital-ffm.de
CLASS: PUBLIC
SUMMARY:Geburtsvorbereitung: Wochenendkurs (Geburts­termin September/ Oktob
 er)
DESCRIPTION:Samstag und Sonntag jeweils 09.00 – 16.00 UhrSonia Lugini\n\nAn
 meldung
DTSTAMP:20260331T091154Z
DTSTART:20260725T070000Z
DTEND:20260726T140000Z
END:VEVENT
END:VCALENDAR
