BEGIN:VCALENDAR
VERSION:2.0
PRODID:https://github.com/derhansen/sf_event_mgt
METHOD:PUBLISH
BEGIN:VEVENT
UID:18-25@www.buergerhospital-ffm.de
CLASS: PUBLIC
SUMMARY:Geburtsvorbereitung: Wochenendkurs (Geburts­termin Oktober/November
 )
DESCRIPTION:Samstag und Sonntag jeweils 10.00 – 17.00 Uhr\n\nDie Partnergeb
 ühr beträgt 160€. Anna Schönewolf\n\nAnmeldung
DTSTAMP:20260421T130158Z
DTSTART:20260905T080000Z
DTEND:20260906T150000Z
END:VEVENT
END:VCALENDAR
