BEGIN:VCALENDAR
VERSION:2.0
PRODID:https://github.com/derhansen/sf_event_mgt
METHOD:PUBLISH
BEGIN:VEVENT
UID:50-25@www.buergerhospital-ffm.de
CLASS: PUBLIC
SUMMARY:Geburtsvorbereitung: Wochenendkurs (Geburts­termin Mitte September)
DESCRIPTION:Samstag und Sonntag jeweils 10.00 – 17.00 UhrAssunta Carpentier
 i\n\nAnmeldung per E-Mail
DTSTAMP:20260331T100938Z
DTSTART:20260808T080000Z
DTEND:20260809T150000Z
END:VEVENT
END:VCALENDAR
