BEGIN:VCALENDAR
VERSION:2.0
PRODID:https://github.com/derhansen/sf_event_mgt
METHOD:PUBLISH
BEGIN:VEVENT
UID:20-25@www.buergerhospital-ffm.de
CLASS: PUBLIC
SUMMARY:Geburtsvorbereitung: Wochenendkurs (Geburts­termin Ende September)
DESCRIPTION:Samstag und Sonntag jeweils 10.00 – 16.00 UhrNadine Schmolt\n\n
 Anmeldung unter 0176 42952476
DTSTAMP:20260331T090701Z
DTSTART:20260829T080000Z
DTEND:20260830T140000Z
END:VEVENT
END:VCALENDAR
