BEGIN:VCALENDAR
VERSION:2.0
PRODID:https://github.com/derhansen/sf_event_mgt
METHOD:PUBLISH
BEGIN:VEVENT
UID:38-25@www.buergerhospital-ffm.de
CLASS: PUBLIC
SUMMARY:Geburtsvorbereitung: Wochenendkurs (Geburts­termin Ende September/ 
 Oktober)
DESCRIPTION:Samstag und Sonntag jeweils 09.00 – 16.00 UhrSonia Lugini\n\nAn
 meldung
DTSTAMP:20260331T091250Z
DTSTART:20260815T070000Z
DTEND:20260816T140000Z
END:VEVENT
END:VCALENDAR
