BEGIN:VCALENDAR
VERSION:2.0
PRODID:https://github.com/derhansen/sf_event_mgt
METHOD:PUBLISH
BEGIN:VEVENT
UID:56-25@www.buergerhospital-ffm.de
CLASS: PUBLIC
SUMMARY:Geburtsvorbereitung: Wochenendkurs (Geburts­termin Ende September)
DESCRIPTION:Samstag und Sonntag 10.00 – 17.00 UhrMunira Vauall\n\nAnmeldung
  per E-Mail
DTSTAMP:20260331T091414Z
DTSTART:20260822T080000Z
DTEND:20260823T150000Z
END:VEVENT
END:VCALENDAR
