BEGIN:VCALENDAR
VERSION:2.0
PRODID:https://github.com/derhansen/sf_event_mgt
METHOD:PUBLISH
BEGIN:VEVENT
UID:21-25@www.buergerhospital-ffm.de
CLASS: PUBLIC
SUMMARY:Geburtsvorbereitung: Wochenendkurs (Geburts­termin Ende Oktober)
DESCRIPTION:Samstag 10.00 – 17.00 Uhr, Sonntag 10.00 – 16.00 UhrKarola Kirc
 hner\n\nAnmeldung
DTSTAMP:20260331T092858Z
DTSTART:20260919T080000Z
DTEND:20260920T140000Z
END:VEVENT
END:VCALENDAR
