BEGIN:VCALENDAR
VERSION:2.0
PRODID:https://github.com/derhansen/sf_event_mgt
METHOD:PUBLISH
BEGIN:VEVENT
UID:19-25@www.buergerhospital-ffm.de
CLASS: PUBLIC
SUMMARY:Geburtsvorbereitung: Wochenendkurs (Geburts­termin Ende Mai)
DESCRIPTION:Samstag und Sonntag jeweils 10.00 – 16.00 UhrNadine Schmolt\n\n
 Anmeldung unter 0176 42952476
DTSTAMP:20260331T090651Z
DTSTART:20260425T080000Z
DTEND:20260426T140000Z
END:VEVENT
END:VCALENDAR
