BEGIN:VCALENDAR
VERSION:2.0
PRODID:https://github.com/derhansen/sf_event_mgt
METHOD:PUBLISH
BEGIN:VEVENT
UID:48-25@www.buergerhospital-ffm.de
CLASS: PUBLIC
SUMMARY:Geburtsvorbereitung: Wochenendkurs (Geburts­termin Ende Juli)
DESCRIPTION:Samstag und Sonntag jeweils 10.00 – 17.00 UhrAssunta Carpentier
 i\n\nAnmeldung per E-Mail
DTSTAMP:20260331T100836Z
DTSTART:20260627T080000Z
DTEND:20260628T150000Z
END:VEVENT
END:VCALENDAR
