BEGIN:VCALENDAR
VERSION:2.0
PRODID:https://github.com/derhansen/sf_event_mgt
METHOD:PUBLISH
BEGIN:VEVENT
UID:25-25@www.buergerhospital-ffm.de
CLASS: PUBLIC
SUMMARY:Geburtsvorbereitung: Wochenendkurs (Geburts­termin Ende Juli/August
 )
DESCRIPTION:Samstag und Sonntag jeweils 10.00 – 17.00 UhrSonia Lugini\n\nAn
 meldung
DTSTAMP:20260331T090852Z
DTSTART:20260613T080000Z
DTEND:20260614T150000Z
END:VEVENT
END:VCALENDAR
