BEGIN:VCALENDAR
VERSION:2.0
PRODID:https://github.com/derhansen/sf_event_mgt
METHOD:PUBLISH
BEGIN:VEVENT
UID:68-25@www.buergerhospital-ffm.de
CLASS: PUBLIC
SUMMARY:Geburtsvorbereitung: Wochenendkurs (Geburts­termin Ende Juli)
DESCRIPTION:Samstag 10.00 – 17.00 Uhr, Sonntag 10.00 – 16.00 UhrKarola Kirc
 hner\n\nAnmeldung
DTSTAMP:20260331T091434Z
DTSTART:20260620T080000Z
DTEND:20260621T140000Z
END:VEVENT
END:VCALENDAR
