BEGIN:VCALENDAR
VERSION:2.0
PRODID:https://github.com/derhansen/sf_event_mgt
METHOD:PUBLISH
BEGIN:VEVENT
UID:49-25@www.buergerhospital-ffm.de
CLASS: PUBLIC
SUMMARY:Geburtsvorbereitung: Wochenendkurs (Geburts­termin Ende August)
DESCRIPTION:Samstag und Sonntag jeweils 10.00 – 17.00 UhrAssunta Carpentier
 i\n\nAnmeldung per E-Mail
DTSTAMP:20260331T100856Z
DTSTART:20260718T080000Z
DTEND:20260719T150000Z
END:VEVENT
END:VCALENDAR
