BEGIN:VCALENDAR
VERSION:2.0
PRODID:https://github.com/derhansen/sf_event_mgt
METHOD:PUBLISH
BEGIN:VEVENT
UID:22-25@www.buergerhospital-ffm.de
CLASS: PUBLIC
SUMMARY:Geburtsvorbereitung: Wochenendkurs (Geburts­termin August)
DESCRIPTION:Samstag und Sonntag jeweils 10.00 – 17.00 UhrAnna Schönewolf\n\
 nAnmeldung
DTSTAMP:20260331T090820Z
DTSTART:20260704T080000Z
DTEND:20260705T150000Z
END:VEVENT
END:VCALENDAR
